BEGIN:VCALENDAR
VERSION:2.0
PRODID:-//Alabama Alliance for Community Hospitals - ECPv6.15.20//NONSGML v1.0//EN
CALSCALE:GREGORIAN
METHOD:PUBLISH
X-WR-CALNAME:Alabama Alliance for Community Hospitals
X-ORIGINAL-URL:https://aachnetwork.org
X-WR-CALDESC:Events for Alabama Alliance for Community Hospitals
REFRESH-INTERVAL;VALUE=DURATION:PT1H
X-Robots-Tag:noindex
X-PUBLISHED-TTL:PT1H
BEGIN:VTIMEZONE
TZID:UTC
BEGIN:STANDARD
TZOFFSETFROM:+0000
TZOFFSETTO:+0000
TZNAME:UTC
DTSTART:20250101T000000
END:STANDARD
END:VTIMEZONE
BEGIN:VEVENT
DTSTART;VALUE=DATE:20260304
DTEND;VALUE=DATE:20260305
DTSTAMP:20260423T102021
CREATED:20260324T191900Z
LAST-MODIFIED:20260408T162407Z
UID:10000001-1772582400-1772668799@aachnetwork.org
SUMMARY:Legislators Reception in Montgomery
DESCRIPTION:The Legislators Reception focuses on providing member hospitals an opportunity to build independent relationships with state decision makers.
URL:https://aachnetwork.org/event/legislators-reception-in-montgomery/
END:VEVENT
BEGIN:VEVENT
DTSTART;VALUE=DATE:20260602
DTEND;VALUE=DATE:20260604
DTSTAMP:20260423T102021
CREATED:20260407T191505Z
LAST-MODIFIED:20260408T163106Z
UID:10000002-1780358400-1780531199@aachnetwork.org
SUMMARY:Member Meeting at Hilton Sandestin Beach Golf Resort & Spa
DESCRIPTION:The AACH Member Meeting offers members the opportunity to network with other community hospitals’ leadership\, review and share best practices\, and hear from state lawmakers.
URL:https://aachnetwork.org/event/member-meeting-at-hilton-sandestin-beach-golf-resort-spa/
END:VEVENT
END:VCALENDAR